BEGIN:VCALENDAR
VERSION:2.0
PRODID:-//The Salty Suites - ECPv6.15.20//NONSGML v1.0//EN
CALSCALE:GREGORIAN
METHOD:PUBLISH
X-ORIGINAL-URL:https://saltysuites.com
X-WR-CALDESC:Events for The Salty Suites
REFRESH-INTERVAL;VALUE=DURATION:PT1H
X-Robots-Tag:noindex
X-PUBLISHED-TTL:PT1H
BEGIN:VTIMEZONE
TZID:America/Los_Angeles
BEGIN:DAYLIGHT
TZOFFSETFROM:-0800
TZOFFSETTO:-0700
TZNAME:PDT
DTSTART:20240310T100000
END:DAYLIGHT
BEGIN:STANDARD
TZOFFSETFROM:-0700
TZOFFSETTO:-0800
TZNAME:PST
DTSTART:20241103T090000
END:STANDARD
BEGIN:DAYLIGHT
TZOFFSETFROM:-0800
TZOFFSETTO:-0700
TZNAME:PDT
DTSTART:20250309T100000
END:DAYLIGHT
BEGIN:STANDARD
TZOFFSETFROM:-0700
TZOFFSETTO:-0800
TZNAME:PST
DTSTART:20251102T090000
END:STANDARD
BEGIN:DAYLIGHT
TZOFFSETFROM:-0800
TZOFFSETTO:-0700
TZNAME:PDT
DTSTART:20260308T100000
END:DAYLIGHT
BEGIN:STANDARD
TZOFFSETFROM:-0700
TZOFFSETTO:-0800
TZNAME:PST
DTSTART:20261101T090000
END:STANDARD
END:VTIMEZONE
BEGIN:VEVENT
DTSTART;TZID=America/Los_Angeles:20250707T150000
DTEND;TZID=America/Los_Angeles:20250707T193000
DTSTAMP:20260423T213754
CREATED:20250422T023925Z
LAST-MODIFIED:20250521T055956Z
UID:784-1751900400-1751916600@saltysuites.com
SUMMARY:Sawdust
DESCRIPTION:We’ll be on the deck.
URL:https://saltysuites.com/event/sawdust-2/
LOCATION:Sawdust Art Festival\, 935 Laguna Canyon Road\, Laguna Beach\, CA\, 92651
ATTACH;FMTTYPE=image/jpeg:https://saltysuites.com/wp-content/uploads/2024/05/IMG_20220806_001431_044-4.jpg
END:VEVENT
BEGIN:VEVENT
DTSTART;TZID=America/Los_Angeles:20250711T173000
DTEND;TZID=America/Los_Angeles:20250711T190000
DTSTAMP:20260423T213754
CREATED:20250217T190857Z
LAST-MODIFIED:20250422T035221Z
UID:755-1752255000-1752260400@saltysuites.com
SUMMARY:Festival of Arts
DESCRIPTION:
URL:https://saltysuites.com/event/festival-of-arts/
LOCATION:Festival of Arts\, 650 Laguna Canyon Road\, Laguna Beach\, California\, 92651
END:VEVENT
BEGIN:VEVENT
DTSTART;TZID=America/Los_Angeles:20250712T163000
DTEND;TZID=America/Los_Angeles:20250712T210000
DTSTAMP:20260423T213754
CREATED:20250422T024819Z
LAST-MODIFIED:20250422T024821Z
UID:787-1752337800-1752354000@saltysuites.com
SUMMARY:Sawdust
DESCRIPTION:Find us in the tavern!
URL:https://saltysuites.com/event/sawdust-3/
LOCATION:Sawdust Art Festival\, 935 Laguna Canyon Road\, Laguna Beach\, CA\, 92651
END:VEVENT
BEGIN:VEVENT
DTSTART;TZID=America/Los_Angeles:20250717T133000
DTEND;TZID=America/Los_Angeles:20250717T190000
DTSTAMP:20260423T213754
CREATED:20250422T025516Z
LAST-MODIFIED:20250422T025518Z
UID:789-1752759000-1752778800@saltysuites.com
SUMMARY:Sawdust
DESCRIPTION:Another day in the tavern!
URL:https://saltysuites.com/event/sawdust-4/
LOCATION:Sawdust Art Festival\, 935 Laguna Canyon Road\, Laguna Beach\, CA\, 92651
END:VEVENT
BEGIN:VEVENT
DTSTART;TZID=America/Los_Angeles:20250726T170000
DTEND;TZID=America/Los_Angeles:20250726T170000
DTSTAMP:20260423T213754
CREATED:20250522T032713Z
LAST-MODIFIED:20250522T032715Z
UID:821-1753549200-1753549200@saltysuites.com
SUMMARY:Ramona Bluegrass Night
DESCRIPTION:Doors open at 5pm. \n\n\n\n Music by Whiskey & Burlap\, Sun Valley String Band\, and The Salty Suites at Reds Whites & Brews.
URL:https://saltysuites.com/event/ramona-bluegrass-night/
LOCATION:Reds Whites & Brews\, 629 Main St STE B\, Ramona\, California\, 92065\, United States
ATTACH;FMTTYPE=image/png:https://saltysuites.com/wp-content/uploads/2025/05/RBN_CBA-2.png
END:VEVENT
END:VCALENDAR