BEGIN:VCALENDAR
VERSION:2.0
PRODID:-//The Salty Suites - ECPv6.15.20//NONSGML v1.0//EN
CALSCALE:GREGORIAN
METHOD:PUBLISH
X-WR-CALNAME:The Salty Suites
X-ORIGINAL-URL:https://saltysuites.com
X-WR-CALDESC:Events for The Salty Suites
REFRESH-INTERVAL;VALUE=DURATION:PT1H
X-Robots-Tag:noindex
X-PUBLISHED-TTL:PT1H
BEGIN:VTIMEZONE
TZID:America/Los_Angeles
BEGIN:DAYLIGHT
TZOFFSETFROM:-0800
TZOFFSETTO:-0700
TZNAME:PDT
DTSTART:20240310T100000
END:DAYLIGHT
BEGIN:STANDARD
TZOFFSETFROM:-0700
TZOFFSETTO:-0800
TZNAME:PST
DTSTART:20241103T090000
END:STANDARD
BEGIN:DAYLIGHT
TZOFFSETFROM:-0800
TZOFFSETTO:-0700
TZNAME:PDT
DTSTART:20250309T100000
END:DAYLIGHT
BEGIN:STANDARD
TZOFFSETFROM:-0700
TZOFFSETTO:-0800
TZNAME:PST
DTSTART:20251102T090000
END:STANDARD
BEGIN:DAYLIGHT
TZOFFSETFROM:-0800
TZOFFSETTO:-0700
TZNAME:PDT
DTSTART:20260308T100000
END:DAYLIGHT
BEGIN:STANDARD
TZOFFSETFROM:-0700
TZOFFSETTO:-0800
TZNAME:PST
DTSTART:20261101T090000
END:STANDARD
END:VTIMEZONE
BEGIN:VEVENT
DTSTART;TZID=America/Los_Angeles:20250404T120000
DTEND;TZID=America/Los_Angeles:20250404T163000
DTSTAMP:20260424T024238
CREATED:20250331T163807Z
LAST-MODIFIED:20250331T163809Z
UID:766-1743768000-1743784200@saltysuites.com
SUMMARY:Sawdust Spring Festival
DESCRIPTION:Get there.
URL:https://saltysuites.com/event/sawdust-spring-festival/
LOCATION:Sawdust Art Festival\, 935 Laguna Canyon Road\, Laguna Beach\, CA\, 92651
ATTACH;FMTTYPE=image/png:https://saltysuites.com/wp-content/uploads/2024/11/The-Cliff.png
END:VEVENT
BEGIN:VEVENT
DTSTART;TZID=America/Los_Angeles:20250430T190000
DTEND;TZID=America/Los_Angeles:20250430T213000
DTSTAMP:20260424T024238
CREATED:20250331T164058Z
LAST-MODIFIED:20250422T034745Z
UID:768-1746039600-1746048600@saltysuites.com
SUMMARY:Wine and Song
DESCRIPTION:Los Angeles-based guitarist and songwriter Jim Vitale has toured the world as a sideman\, cut tracks as a session player\, and written songs featured on network TV shows. The sideman stepped out as an artist with his 2024 debut album Love And Fate. The album has a Traveling Wilburys-at-Muscle Shoals vibe. Vitale’s sound is distilled from Tom Petty\, The Band\, Buddy Holly\, Lucinda Williams and others that have crisscrossed as inspirations and influences. \n\n\n\nChelsea Williams\, Chuck Hailes\, and Mark Cassidy make up the captivating trio The Salty Suites. They are known for their energetic performances and ability to cross musical genres\, from jazz to pop. Their first official show together was in a high security prison for the criminally insane. Thirteen years\, four albums\, and a pandemic later\, they remain a close-knit dysfunctional family of misfits.
URL:https://saltysuites.com/event/wine-and-song/
LOCATION:The Daily\, 1119 Fair Oaks Ave\, South Pasadena\, California\, 91030\, United States
ATTACH;FMTTYPE=image/jpeg:https://saltysuites.com/wp-content/uploads/2024/09/NOVO2018PATIOCREEKSIDEEVENING6-2.jpg
END:VEVENT
END:VCALENDAR