BEGIN:VCALENDAR
VERSION:2.0
PRODID:-//The Salty Suites - ECPv6.15.20//NONSGML v1.0//EN
CALSCALE:GREGORIAN
METHOD:PUBLISH
X-ORIGINAL-URL:https://saltysuites.com
X-WR-CALDESC:Events for The Salty Suites
REFRESH-INTERVAL;VALUE=DURATION:PT1H
X-Robots-Tag:noindex
X-PUBLISHED-TTL:PT1H
BEGIN:VTIMEZONE
TZID:America/Los_Angeles
BEGIN:DAYLIGHT
TZOFFSETFROM:-0800
TZOFFSETTO:-0700
TZNAME:PDT
DTSTART:20240310T100000
END:DAYLIGHT
BEGIN:STANDARD
TZOFFSETFROM:-0700
TZOFFSETTO:-0800
TZNAME:PST
DTSTART:20241103T090000
END:STANDARD
BEGIN:DAYLIGHT
TZOFFSETFROM:-0800
TZOFFSETTO:-0700
TZNAME:PDT
DTSTART:20250309T100000
END:DAYLIGHT
BEGIN:STANDARD
TZOFFSETFROM:-0700
TZOFFSETTO:-0800
TZNAME:PST
DTSTART:20251102T090000
END:STANDARD
BEGIN:DAYLIGHT
TZOFFSETFROM:-0800
TZOFFSETTO:-0700
TZNAME:PDT
DTSTART:20260308T100000
END:DAYLIGHT
BEGIN:STANDARD
TZOFFSETFROM:-0700
TZOFFSETTO:-0800
TZNAME:PST
DTSTART:20261101T090000
END:STANDARD
BEGIN:DAYLIGHT
TZOFFSETFROM:-0800
TZOFFSETTO:-0700
TZNAME:PDT
DTSTART:20270314T100000
END:DAYLIGHT
BEGIN:STANDARD
TZOFFSETFROM:-0700
TZOFFSETTO:-0800
TZNAME:PST
DTSTART:20271107T090000
END:STANDARD
END:VTIMEZONE
BEGIN:VEVENT
DTSTART;TZID=America/Los_Angeles:20250726T170000
DTEND;TZID=America/Los_Angeles:20250726T170000
DTSTAMP:20260425T071009
CREATED:20250522T032713Z
LAST-MODIFIED:20250522T032715Z
UID:821-1753549200-1753549200@saltysuites.com
SUMMARY:Ramona Bluegrass Night
DESCRIPTION:Doors open at 5pm. \n\n\n\n Music by Whiskey & Burlap\, Sun Valley String Band\, and The Salty Suites at Reds Whites & Brews.
URL:https://saltysuites.com/event/ramona-bluegrass-night/
LOCATION:Reds Whites & Brews\, 629 Main St STE B\, Ramona\, California\, 92065\, United States
ATTACH;FMTTYPE=image/png:https://saltysuites.com/wp-content/uploads/2025/05/RBN_CBA-2.png
END:VEVENT
BEGIN:VEVENT
DTSTART;TZID=America/Los_Angeles:20250803T123000
DTEND;TZID=America/Los_Angeles:20250803T170000
DTSTAMP:20260425T071009
CREATED:20250422T035857Z
LAST-MODIFIED:20250422T035858Z
UID:797-1754224200-1754240400@saltysuites.com
SUMMARY:Sawdust
DESCRIPTION:Another day in paradise.  Find us on the Patio.
URL:https://saltysuites.com/event/sawdust-5/
LOCATION:Sawdust Art Festival\, 935 Laguna Canyon Road\, Laguna Beach\, CA\, 92651
END:VEVENT
BEGIN:VEVENT
DTSTART;TZID=America/Los_Angeles:20250810T170000
DTEND;TZID=America/Los_Angeles:20250810T183000
DTSTAMP:20260425T071009
CREATED:20250723T192247Z
LAST-MODIFIED:20250723T192248Z
UID:831-1754845200-1754850600@saltysuites.com
SUMMARY:Carroll Park
DESCRIPTION:Nice little concert in an intimate park setting on a Sunday evening.  Bring your own picnic and chill to some live music.
URL:https://saltysuites.com/event/carroll-park-2/
LOCATION:Carroll Park\, Long Beach\, CA
END:VEVENT
BEGIN:VEVENT
DTSTART;TZID=America/Los_Angeles:20250822T163000
DTEND;TZID=America/Los_Angeles:20250822T210000
DTSTAMP:20260425T071009
CREATED:20250422T040114Z
LAST-MODIFIED:20250422T040119Z
UID:799-1755880200-1755896400@saltysuites.com
SUMMARY:Sawdust
DESCRIPTION:This is where you want to be…
URL:https://saltysuites.com/event/sawdust-6/
LOCATION:Sawdust Art Festival\, 935 Laguna Canyon Road\, Laguna Beach\, CA\, 92651
END:VEVENT
BEGIN:VEVENT
DTSTART;TZID=America/Los_Angeles:20250824T170000
DTEND;TZID=America/Los_Angeles:20250824T200000
DTSTAMP:20260425T071009
CREATED:20250730T015514Z
LAST-MODIFIED:20250808T230111Z
UID:835-1756054800-1756065600@saltysuites.com
SUMMARY:Fremont House Concert
DESCRIPTION:You won’t want to miss this one! The Salty Suites from Ventura\, CA are returning to Niles for an evening concert under the redwoods in our backyard on Sunday\, August 24\, 2025 at 5-8 PM! \n\n\n\nThis show will sell out so please reserve your seats by texting or messaging Judy here on FB soon! \n\n\n\nTickets are a sliding scale donation of $25-$40 to be paid when you arrive at the show. Please feel free to bring a picnic of what you’d personally like to eat and drink. We’re keeping it simple as usual! \n\n\n\nYou can check out The Salty Suites at https://saltysuites.com  \n\n\n\nNobody knew it at the time\, but The Salty Suites began in early June 2009 when Chelsea Williams\, Chuck Hailes\, & Scott Gates played together for the first time on a magical night at Castoro Cellars in San Luis Obispo\, CA. John McEuen was headlining that night\, and Chelsea was the opening act. Chuck and Scott were there to support John’s son\, Nathan. Chelsea\, Chuck\, and Scott met before the show and decided to rehearse and perform a cover of Hank William’s “Lovesick Blues.” The rest is sordid history.  \n\n\n\nThe Salty Suites played their first show together in a high security prison for the criminally insane. Thirteen years\, four independently released albums\, & a global pandemic later\, we are happy to report that we have managed to remain a close-knit dysfunctional family of misfits. We have had the pleasure of performing countless shows at many incredible venues up and down the California coast\, and we have built a loyal following of adoring fans that we are proud to call friends.  \n\n\n\nSpeaking of friends\, our mamas always told us to make new friends and keep the old. We are pleased to report that Scott has been on tour with AJ Lee and Blue Summit. In his stead\, we have appointed a longtime friend of the band\, Mark Cassidy\, to gift us with his great talent on the banjo. Mark comes with a long list of accolades\, including his leading role in The Hillbenders\, whose recent engagements include opening for Keller Williams and touring the US performing their original act “Who Grass\,“ a chronological journal of The Who’s legendary catalog\, highlighted by bluegrass instrumentation. We are very stoked to introduce you to Mark at our upcoming shows!
URL:https://saltysuites.com/event/fremont-house-concert/
LOCATION:Fremont House Concert\, CA-238\, Fremont\, California\, 94536\, United States
END:VEVENT
BEGIN:VEVENT
DTSTART;TZID=America/Los_Angeles:20250830T163000
DTEND;TZID=America/Los_Angeles:20250830T210000
DTSTAMP:20260425T071009
CREATED:20250422T040348Z
LAST-MODIFIED:20250422T040350Z
UID:801-1756571400-1756587600@saltysuites.com
SUMMARY:Sawdust
DESCRIPTION:
URL:https://saltysuites.com/event/sawdust-7/
LOCATION:Sawdust Art Festival\, 935 Laguna Canyon Road\, Laguna Beach\, CA\, 92651
END:VEVENT
BEGIN:VEVENT
DTSTART;TZID=America/Los_Angeles:20250831T180000
DTEND;TZID=America/Los_Angeles:20250831T183000
DTSTAMP:20260425T071009
CREATED:20250422T041336Z
LAST-MODIFIED:20250422T041339Z
UID:807-1756663200-1756665000@saltysuites.com
SUMMARY:Arroyo Grande House Concert
DESCRIPTION:
URL:https://saltysuites.com/event/arroyo-grande-house-concert-3/
LOCATION:Arroyo Grande\, 202 Avenida de Diamante\, Arroyo Grande\, 93420\, United States
END:VEVENT
BEGIN:VEVENT
DTSTART;TZID=America/Los_Angeles:20250901T173000
DTEND;TZID=America/Los_Angeles:20250901T200000
DTSTAMP:20260425T071009
CREATED:20250217T192014Z
LAST-MODIFIED:20250217T192015Z
UID:761-1756747800-1756756800@saltysuites.com
SUMMARY:Robin's
DESCRIPTION:
URL:https://saltysuites.com/event/robins/
LOCATION:Robin’s Restaurant\, 4095 Burton St\, Cambria\, California\, 93428\, United States
CATEGORIES:CONCERTS,SHOWS
ATTACH;FMTTYPE=image/jpeg:https://saltysuites.com/wp-content/uploads/2024/09/NOVO2018PATIOCREEKSIDEEVENING6-2.jpg
END:VEVENT
BEGIN:VEVENT
DTSTART;TZID=America/Los_Angeles:20260314T190000
DTEND;TZID=America/Los_Angeles:20260314T220000
DTSTAMP:20260425T071009
CREATED:20260222T214134Z
LAST-MODIFIED:20260222T214136Z
UID:847-1773514800-1773525600@saltysuites.com
SUMMARY:Laguna Beach Cultural Arts Center
DESCRIPTION:Listening room in Laguna Beach.
URL:https://saltysuites.com/event/laguna-beach-cultural-arts-center-4/
LOCATION:Laguna Beach Cultural Arts Center\, 235 Forest Ave\, Laguna Beach\, CA\, 92651
CATEGORIES:CONCERTS,SHOWS
ATTACH;FMTTYPE=image/jpeg:https://saltysuites.com/wp-content/uploads/2024/09/IMGP8457.jpeg
END:VEVENT
BEGIN:VEVENT
DTSTART;TZID=America/Los_Angeles:20260611T190000
DTEND;TZID=America/Los_Angeles:20260611T200000
DTSTAMP:20260425T071009
CREATED:20260222T220222Z
LAST-MODIFIED:20260222T220223Z
UID:851-1781204400-1781208000@saltysuites.com
SUMMARY:El Dorado Nature Center
DESCRIPTION:Great spot for a show.
URL:https://saltysuites.com/event/el-dorado-nature-center-3/
LOCATION:El Dorado Nature Center\, 7550 E Spring St\, Long Beach\, CA\, 90815
END:VEVENT
BEGIN:VEVENT
DTSTART;TZID=America/Los_Angeles:20260627T163000
DTEND;TZID=America/Los_Angeles:20260627T210000
DTSTAMP:20260425T071009
CREATED:20260317T053056Z
LAST-MODIFIED:20260317T053101Z
UID:854-1782577800-1782594000@saltysuites.com
SUMMARY:Sawdust
DESCRIPTION:
URL:https://saltysuites.com/event/sawdust-8/
LOCATION:Sawdust Art Festival\, 935 Laguna Canyon Road\, Laguna Beach\, CA\, 92651
ATTACH;FMTTYPE=image/jpeg:https://saltysuites.com/wp-content/uploads/2026/03/0-4.jpeg
END:VEVENT
BEGIN:VEVENT
DTSTART;TZID=America/Los_Angeles:20260709T143000
DTEND;TZID=America/Los_Angeles:20260709T190000
DTSTAMP:20260425T071009
CREATED:20260317T054520Z
LAST-MODIFIED:20260317T054522Z
UID:857-1783607400-1783623600@saltysuites.com
SUMMARY:Sawdust Art Festival
DESCRIPTION:
URL:https://saltysuites.com/event/sawdust-art-festival-3/
LOCATION:Sawdust Art Festival\, 935 Laguna Canyon Road\, Laguna Beach\, CA\, 92651
END:VEVENT
BEGIN:VEVENT
DTSTART;TZID=America/Los_Angeles:20260724T163000
DTEND;TZID=America/Los_Angeles:20260724T210000
DTSTAMP:20260425T071009
CREATED:20260317T055210Z
LAST-MODIFIED:20260317T055211Z
UID:859-1784910600-1784926800@saltysuites.com
SUMMARY:Sawdust Art Festival
DESCRIPTION:
URL:https://saltysuites.com/event/sawdust-art-festival-4/
LOCATION:Sawdust Art Festival\, 935 Laguna Canyon Road\, Laguna Beach\, CA\, 92651
END:VEVENT
BEGIN:VEVENT
DTSTART;TZID=America/Los_Angeles:20260812T143000
DTEND;TZID=America/Los_Angeles:20260812T190000
DTSTAMP:20260425T071009
CREATED:20260317T055420Z
LAST-MODIFIED:20260317T055422Z
UID:861-1786545000-1786561200@saltysuites.com
SUMMARY:Sawdust Art Festival
DESCRIPTION:
URL:https://saltysuites.com/event/sawdust-art-festival-5/
LOCATION:Sawdust Art Festival\, 935 Laguna Canyon Road\, Laguna Beach\, CA\, 92651
END:VEVENT
BEGIN:VEVENT
DTSTART;TZID=America/Los_Angeles:20260826T143000
DTEND;TZID=America/Los_Angeles:20260826T190000
DTSTAMP:20260425T071009
CREATED:20260317T055706Z
LAST-MODIFIED:20260317T055707Z
UID:863-1787754600-1787770800@saltysuites.com
SUMMARY:Sawdust Art Festival
DESCRIPTION:
URL:https://saltysuites.com/event/sawdust-art-festival-6/
LOCATION:Sawdust Art Festival\, 935 Laguna Canyon Road\, Laguna Beach\, CA\, 92651
END:VEVENT
BEGIN:VEVENT
DTSTART;TZID=America/Los_Angeles:20260830T173000
DTEND;TZID=America/Los_Angeles:20260830T190000
DTSTAMP:20260425T071009
CREATED:20260222T215704Z
LAST-MODIFIED:20260222T215706Z
UID:849-1788111000-1788116400@saltysuites.com
SUMMARY:Festival oF Arts
DESCRIPTION:It’s the Festival oF Arts.  They’ve got everything that you need.
URL:https://saltysuites.com/event/festival-of-arts-2/
LOCATION:Festival of Arts\, 650 Laguna Canyon Road\, Laguna Beach\, California\, 92651
CATEGORIES:CONCERTS,SHOWS
END:VEVENT
END:VCALENDAR