BEGIN:VCALENDAR
VERSION:2.0
PRODID:-//The Salty Suites - ECPv6.15.20//NONSGML v1.0//EN
CALSCALE:GREGORIAN
METHOD:PUBLISH
X-WR-CALNAME:The Salty Suites
X-ORIGINAL-URL:https://saltysuites.com
X-WR-CALDESC:Events for The Salty Suites
REFRESH-INTERVAL;VALUE=DURATION:PT1H
X-Robots-Tag:noindex
X-PUBLISHED-TTL:PT1H
BEGIN:VTIMEZONE
TZID:America/Los_Angeles
BEGIN:DAYLIGHT
TZOFFSETFROM:-0800
TZOFFSETTO:-0700
TZNAME:PDT
DTSTART:20230312T100000
END:DAYLIGHT
BEGIN:STANDARD
TZOFFSETFROM:-0700
TZOFFSETTO:-0800
TZNAME:PST
DTSTART:20231105T090000
END:STANDARD
BEGIN:DAYLIGHT
TZOFFSETFROM:-0800
TZOFFSETTO:-0700
TZNAME:PDT
DTSTART:20240310T100000
END:DAYLIGHT
BEGIN:STANDARD
TZOFFSETFROM:-0700
TZOFFSETTO:-0800
TZNAME:PST
DTSTART:20241103T090000
END:STANDARD
BEGIN:DAYLIGHT
TZOFFSETFROM:-0800
TZOFFSETTO:-0700
TZNAME:PDT
DTSTART:20250309T100000
END:DAYLIGHT
BEGIN:STANDARD
TZOFFSETFROM:-0700
TZOFFSETTO:-0800
TZNAME:PST
DTSTART:20251102T090000
END:STANDARD
END:VTIMEZONE
BEGIN:VTIMEZONE
TZID:UTC
BEGIN:STANDARD
TZOFFSETFROM:+0000
TZOFFSETTO:+0000
TZNAME:UTC
DTSTART:20230101T000000
END:STANDARD
END:VTIMEZONE
BEGIN:VEVENT
DTSTART;TZID=America/Los_Angeles:20240817T180000
DTEND;TZID=America/Los_Angeles:20240817T210000
DTSTAMP:20260423T165708
CREATED:20240712T231502Z
LAST-MODIFIED:20240812T221618Z
UID:601-1723917600-1723928400@saltysuites.com
SUMMARY:7 Saturdays of Summer -Live at The Shell
DESCRIPTION:The Salty Suites dynamic three-piece acoustic band playing Americana\, Folk & Bluegrass with opening Honey Whiskey Trio’s beautiful & soulful exquisite harmonies!
URL:https://saltysuites.com/event/7-saturdays-of-summer-live-at-the-shell/
LOCATION:The Shell\, 701-939 Federation Dr\, Long Beach\, CA
ATTACH;FMTTYPE=image/jpeg:https://saltysuites.com/wp-content/uploads/2024/07/Salty-Suites-Aug-17-1-scaled.jpg
END:VEVENT
BEGIN:VEVENT
DTSTART;TZID=America/Los_Angeles:20240816T163000
DTEND;TZID=America/Los_Angeles:20240816T210000
DTSTAMP:20260423T165708
CREATED:20240718T030039Z
LAST-MODIFIED:20240718T030039Z
UID:613-1723825800-1723842000@saltysuites.com
SUMMARY:Sawdust Art Festival
DESCRIPTION:
URL:https://saltysuites.com/event/sawdust-art-festival-2/
LOCATION:Sawdust Art Festival\, 935 Laguna Canyon Road\, Laguna Beach\, CA\, 92651
END:VEVENT
BEGIN:VEVENT
DTSTART;TZID=America/Los_Angeles:20240811T170000
DTEND;TZID=America/Los_Angeles:20240811T200000
DTSTAMP:20260423T165708
CREATED:20240717T062253Z
LAST-MODIFIED:20240717T062253Z
UID:608-1723395600-1723406400@saltysuites.com
SUMMARY:Tiny Porch Concerts
DESCRIPTION:Riverside and The Salty Suites at Peter Strauss Ranch.
URL:https://saltysuites.com/event/tiny-porch-concerts/
LOCATION:Peter Strauss Ranch\, 30000 Mulholland Hwy\, Agoura Hills\, CA 91301\, Agoura Hills\, California\, 91301
END:VEVENT
BEGIN:VEVENT
DTSTART;TZID=America/Los_Angeles:20240807T150000
DTEND;TZID=America/Los_Angeles:20240807T193000
DTSTAMP:20260423T165708
CREATED:20240718T025016Z
LAST-MODIFIED:20240718T025016Z
UID:611-1723042800-1723059000@saltysuites.com
SUMMARY:Sawdust Arts Festival
DESCRIPTION:If you need to ask\, just go\, because you need to know.
URL:https://saltysuites.com/event/sawdust-arts-festival-2/
LOCATION:Sawdust Art Festival\, 935 Laguna Canyon Road\, Laguna Beach\, CA\, 92651
END:VEVENT
BEGIN:VEVENT
DTSTART;TZID=America/Los_Angeles:20240803T130000
DTEND;TZID=America/Los_Angeles:20240803T160000
DTSTAMP:20260423T165708
CREATED:20240712T230621Z
LAST-MODIFIED:20240712T230621Z
UID:597-1722690000-1722700800@saltysuites.com
SUMMARY:Festival of Butterflies
DESCRIPTION:The eagerly awaited Festival of Butterflies is back and better than ever as it celebrates its milestone 10th birthday bash! This beloved event promises a day filled with free\, family-friendly fun\, captivating entertainment\, and educational experiences that will delight attendees of all ages. \n\n\n\nIn collaboration with Metrolink Transportation\, the Festival of Butterflies provides convenient transportation choices\, guaranteeing effortless access for all attendees. Whether you come by train\, car\, or bicycle prepare for a delightful adventure into the captivating butterfly sanctuary.
URL:https://saltysuites.com/event/festival-of-butterflies/
LOCATION:CA
END:VEVENT
BEGIN:VEVENT
DTSTART;TZID=America/Los_Angeles:20240731T190000
DTEND;TZID=America/Los_Angeles:20240731T220000
DTSTAMP:20260423T165708
CREATED:20240717T051632Z
LAST-MODIFIED:20240717T051632Z
UID:603-1722452400-1722463200@saltysuites.com
SUMMARY:Wine & Song
DESCRIPTION:
URL:https://saltysuites.com/event/wine-song/
LOCATION:Mamma’s Brick Oven\, 1007 Fair Oaks Ave.\, Pasadena\, CA\, 91030
END:VEVENT
BEGIN:VEVENT
DTSTART;TZID=America/Los_Angeles:20240728T190000
DTEND;TZID=America/Los_Angeles:20240728T220000
DTSTAMP:20260423T165708
CREATED:20240717T053244Z
LAST-MODIFIED:20240718T030435Z
UID:605-1722193200-1722204000@saltysuites.com
SUMMARY:Chelsea Williams at the Coach House
DESCRIPTION:Chelsea will play a 45 minute set before Bobby Gray at The Coach House Concert Hall in San Juan Capistrano. \n\n\n\n\n\n\n\n\n\nhttps://thecoachhouse.com
URL:https://saltysuites.com/event/chelsea-williams-at-the-coach-house/
LOCATION:CA
END:VEVENT
BEGIN:VEVENT
DTSTART;TZID=America/Los_Angeles:20240726T163000
DTEND;TZID=America/Los_Angeles:20240726T210000
DTSTAMP:20260423T165708
CREATED:20240606T060259Z
LAST-MODIFIED:20240606T060259Z
UID:589-1722011400-1722027600@saltysuites.com
SUMMARY:Sawdust
DESCRIPTION:Summertime in Laguna.  Things could be worse.
URL:https://saltysuites.com/event/sawdust/
LOCATION:Sawdust Art Festival\, 935 Laguna Canyon Road\, Laguna Beach\, CA\, 92651
END:VEVENT
BEGIN:VEVENT
DTSTART;TZID=America/Los_Angeles:20240713T130000
DTEND;TZID=America/Los_Angeles:20240713T200000
DTSTAMP:20260423T165708
CREATED:20240606T055749Z
LAST-MODIFIED:20240606T055842Z
UID:585-1720875600-1720900800@saltysuites.com
SUMMARY:Cline Country Bluegrass Festival
DESCRIPTION:CLINE COUNTRY BLUEGRASS FESTIVAL\nTHE ‘CLINE’-UP\n1:00pm – 1:55pm:\nBluegrass Holiday \n2:05pm – 3:00pm:\nSolid Gold Stranger \n3:10pm – 4:05pm:\nBlue & Lonesome \n4:15pm – 5:10pm:\nThe Matt Michienzie Band \n5:20pm – 6:30pm:\nThe Salty Suites \n6:45pm – 7:55pm:\nHot Buttered Rum Duo
URL:https://saltysuites.com/event/cline-country-bluegrass-festival/
LOCATION:Cline Family Cellars\, 24737 Arnold Drive Highway 121\, Sonoma\, CA\, 95476
ATTACH;FMTTYPE=application/pdf:https://saltysuites.com/wp-content/uploads/2024/06/The-Salty-Suites-logo.pdf
END:VEVENT
BEGIN:VEVENT
DTSTART;TZID=America/Los_Angeles:20240706T190000
DTEND;TZID=America/Los_Angeles:20240706T220000
DTSTAMP:20260423T165708
CREATED:20240606T054511Z
LAST-MODIFIED:20240612T165922Z
UID:581-1720292400-1720303200@saltysuites.com
SUMMARY:Canciones House Concert
DESCRIPTION:Doors open at 6pm. House concert in Orange County. Details TBA
URL:https://saltysuites.com/event/canciones-house-concert/
LOCATION:CA
ATTACH;FMTTYPE=image/jpeg:https://saltysuites.com/wp-content/uploads/2024/06/IMG_3116.jpg
END:VEVENT
BEGIN:VEVENT
DTSTART;TZID=America/Los_Angeles:20240705T110000
DTEND;TZID=America/Los_Angeles:20240705T153000
DTSTAMP:20260423T165708
CREATED:20240605T234944Z
LAST-MODIFIED:20240605T234944Z
UID:574-1720177200-1720193400@saltysuites.com
SUMMARY:Sawdust Art Festival
DESCRIPTION:It is the Sawdust in July. What else do you want?
URL:https://saltysuites.com/event/sawdust-art-festival/
LOCATION:Sawdust Art Festival\, 935 Laguna Canyon Road\, Laguna Beach\, CA\, 92651
ATTACH;FMTTYPE=image/jpeg:https://saltysuites.com/wp-content/uploads/2024/05/IMG_20220806_001411_413-4.jpg
END:VEVENT
BEGIN:VEVENT
DTSTART;TZID=America/Los_Angeles:20240630T130000
DTEND;TZID=America/Los_Angeles:20240630T150000
DTSTAMP:20260423T165708
CREATED:20240427T190718Z
LAST-MODIFIED:20240427T190718Z
UID:227-1719752400-1719759600@saltysuites.com
SUMMARY:Stolo Winery
DESCRIPTION:This place is gorgeous. It really doesn’t get much better.
URL:https://saltysuites.com/event/stolo-winery/
LOCATION:Stolo\, 3776 Santa Rosa Creek Rd.\, Cambria\, CA\, 93428
END:VEVENT
BEGIN:VEVENT
DTSTART;TZID=America/Los_Angeles:20240629T110000
DTEND;TZID=America/Los_Angeles:20240629T153000
DTSTAMP:20260423T165708
CREATED:20240513T145920Z
LAST-MODIFIED:20240513T145920Z
UID:248-1719658800-1719675000@saltysuites.com
SUMMARY:Sawdust Arts Festival
DESCRIPTION:It’s hard to describe but it starts somewhere around here..
URL:https://saltysuites.com/event/sawdust-arts-festival/
LOCATION:Sawdust Art Festival\, 935 Laguna Canyon Road\, Laguna Beach\, CA\, 92651
ATTACH;FMTTYPE=image/jpeg:https://saltysuites.com/wp-content/uploads/2024/04/W139.jpeg
END:VEVENT
BEGIN:VEVENT
DTSTART;TZID=America/Los_Angeles:20240615T180000
DTEND;TZID=America/Los_Angeles:20240615T220000
DTSTAMP:20260423T165708
CREATED:20240427T190143Z
LAST-MODIFIED:20240427T190143Z
UID:225-1718474400-1718488800@saltysuites.com
SUMMARY:The Cliff
DESCRIPTION:Laguna in the summer is pretty nice. Come through for a sunset\, on a cliff\, overlooking the ocean.  It doesn’t suck.
URL:https://saltysuites.com/event/the-cliff-2/
LOCATION:The Cliff\, 577 South Coast Highway\, Laguna Beach\, CA\, 92651
END:VEVENT
BEGIN:VEVENT
DTSTART;TZID=America/Los_Angeles:20240613T190000
DTEND;TZID=America/Los_Angeles:20240613T200000
DTSTAMP:20260423T165708
CREATED:20240427T182217Z
LAST-MODIFIED:20240427T182217Z
UID:217-1718305200-1718308800@saltysuites.com
SUMMARY:El Dorado Nature Center
DESCRIPTION:Beautiful outdoor amphitheater in Long Beach. Bring out a picnic with your favorite beverages and enjoy an hour with us under the trees.
URL:https://saltysuites.com/event/el-dorado-nature-center/
LOCATION:El Dorado Nature Center\, 7550 E Spring St\, Long Beach\, CA\, 90815
END:VEVENT
BEGIN:VEVENT
DTSTART;TZID=America/Los_Angeles:20240608T200000
DTEND;TZID=America/Los_Angeles:20240608T220000
DTSTAMP:20260423T165708
CREATED:20240527T064154Z
LAST-MODIFIED:20240527T072301Z
UID:570-1717876800-1717884000@saltysuites.com
SUMMARY:Laguna Beach Cultural Arts Center
DESCRIPTION:Sweet little listening room in Laguna Beach.  Find out what everybody is talking about.
URL:https://saltysuites.com/event/laguna-beach-cultural-arts-center/
LOCATION:Laguna Beach Cultural Arts Center\, 235 Forest Ave\, Laguna Beach\, CA\, 92651
ATTACH;FMTTYPE=image/jpeg:https://saltysuites.com/wp-content/uploads/2024/05/IMG_20220806_001431_044-4.jpg
END:VEVENT
BEGIN:VEVENT
DTSTART;TZID=America/Los_Angeles:20240530T180000
DTEND;TZID=America/Los_Angeles:20240530T210000
DTSTAMP:20260423T165708
CREATED:20240427T040706Z
LAST-MODIFIED:20240427T040706Z
UID:214-1717092000-1717102800@saltysuites.com
SUMMARY:The Cliff
DESCRIPTION:They have everything that you need.
URL:https://saltysuites.com/event/the-cliff/
LOCATION:The Cliff\, 577 South Coast Highway\, Laguna Beach\, CA\, 92651
END:VEVENT
BEGIN:VEVENT
DTSTART;TZID=America/Los_Angeles:20240525T180000
DTEND;TZID=America/Los_Angeles:20240525T210000
DTSTAMP:20260423T165708
CREATED:20240418T180346Z
LAST-MODIFIED:20240420T210314Z
UID:149-1716660000-1716670800@saltysuites.com
SUMMARY:Arroyo Grande House Concert
DESCRIPTION:
URL:https://saltysuites.com/event/arroyo-grande-house-concert/
LOCATION:Arroyo Grande\, 202 Avenida de Diamante\, Arroyo Grande\, 93420\, United States
END:VEVENT
BEGIN:VEVENT
DTSTART;TZID=America/Los_Angeles:20240507T190000
DTEND;TZID=America/Los_Angeles:20240507T210000
DTSTAMP:20260423T165708
CREATED:20240430T051735Z
LAST-MODIFIED:20240430T051735Z
UID:236-1715108400-1715115600@saltysuites.com
SUMMARY:Wildwood Flower Radio Hour 88.9 FM KXLU.com
DESCRIPTION:It’s a radio show\, tune in if you can. 88.9 FM KXLU.com
URL:https://saltysuites.com/event/wildwood-flower-radio-hour-88-9-fm-kxlu-com/
LOCATION:KXLU 88.9
ATTACH;FMTTYPE=image/png:https://saltysuites.com/wp-content/uploads/2024/04/Butterfly-2.png
END:VEVENT
BEGIN:VEVENT
DTSTART;TZID=UTC:20240505T150000
DTEND;TZID=UTC:20240505T180000
DTSTAMP:20260423T165708
CREATED:20240416T161813Z
LAST-MODIFIED:20240417T041928Z
UID:49-1714921200-1714932000@saltysuites.com
SUMMARY:Altadena House Concert
DESCRIPTION:
URL:https://saltysuites.com/event/altadena-house-concert/
LOCATION:Altadena House Concert\, 3211 Lincoln Ave\, Altadena\, 91001\, United States
ATTACH;FMTTYPE=image/jpeg:https://saltysuites.com/wp-content/uploads/2024/04/20220924_191856-scaled.jpg
END:VEVENT
BEGIN:VEVENT
DTSTART;TZID=UTC:20240504T110000
DTEND;TZID=UTC:20240504T190000
DTSTAMP:20260423T165708
CREATED:20240417T040224Z
LAST-MODIFIED:20240430T052534Z
UID:72-1714820400-1714849200@saltysuites.com
SUMMARY:Long Beach Bluegrass Festival
DESCRIPTION:
URL:https://saltysuites.com/event/long-beach-bluegrass-festival/
LOCATION:The Shell\, 701-939 Federation Dr\, Long Beach\, CA
ATTACH;FMTTYPE=application/pdf:https://saltysuites.com/wp-content/uploads/2024/04/1-Sketch-1.pdf
END:VEVENT
BEGIN:VEVENT
DTSTART;TZID=America/Los_Angeles:20240427T160000
DTEND;TZID=America/Los_Angeles:20240427T200000
DTSTAMP:20260423T165708
CREATED:20240420T213812Z
LAST-MODIFIED:20240420T213812Z
UID:182-1714233600-1714248000@saltysuites.com
SUMMARY:Mamma’s Brick Oven
DESCRIPTION:
URL:https://saltysuites.com/event/mammas-brick-oven/
LOCATION:Mamma’s Brick Oven\, 1007 Fair Oaks Ave.\, Pasadena\, CA\, 91030
END:VEVENT
END:VCALENDAR