BEGIN:VCALENDAR
VERSION:2.0
PRODID:-//The Salty Suites - ECPv6.15.20//NONSGML v1.0//EN
CALSCALE:GREGORIAN
METHOD:PUBLISH
X-ORIGINAL-URL:https://saltysuites.com
X-WR-CALDESC:Events for The Salty Suites
REFRESH-INTERVAL;VALUE=DURATION:PT1H
X-Robots-Tag:noindex
X-PUBLISHED-TTL:PT1H
BEGIN:VTIMEZONE
TZID:America/Los_Angeles
BEGIN:DAYLIGHT
TZOFFSETFROM:-0800
TZOFFSETTO:-0700
TZNAME:PDT
DTSTART:20240310T100000
END:DAYLIGHT
BEGIN:STANDARD
TZOFFSETFROM:-0700
TZOFFSETTO:-0800
TZNAME:PST
DTSTART:20241103T090000
END:STANDARD
BEGIN:DAYLIGHT
TZOFFSETFROM:-0800
TZOFFSETTO:-0700
TZNAME:PDT
DTSTART:20250309T100000
END:DAYLIGHT
BEGIN:STANDARD
TZOFFSETFROM:-0700
TZOFFSETTO:-0800
TZNAME:PST
DTSTART:20251102T090000
END:STANDARD
BEGIN:DAYLIGHT
TZOFFSETFROM:-0800
TZOFFSETTO:-0700
TZNAME:PDT
DTSTART:20260308T100000
END:DAYLIGHT
BEGIN:STANDARD
TZOFFSETFROM:-0700
TZOFFSETTO:-0800
TZNAME:PST
DTSTART:20261101T090000
END:STANDARD
END:VTIMEZONE
BEGIN:VEVENT
DTSTART;TZID=America/Los_Angeles:20250622T130000
DTEND;TZID=America/Los_Angeles:20250622T150000
DTSTAMP:20260424T010333
CREATED:20250526T210623Z
LAST-MODIFIED:20250526T210624Z
UID:826-1750597200-1750604400@saltysuites.com
SUMMARY:Parr Collective
DESCRIPTION:Get ready for an unforgettable afternoon with The Salty Suites! This high-energy acoustic trio brings a fresh mix of Americana\, bluegrass\, swing\, and folk—packed with fiery instrumentals\, tight harmonies\, and pure joy. Don’t miss them live! \n\n\n\nBring your beach chairs and picnics. Kids and pets on leashes welcome. \n\n\n\nMembers have access to 6 free tickets per show. If you’re logged into Tock with the same email associated with your membership\, your 100% discount will be automatically applied at checkout. Alternatively\, you can use the code emailed to you to receive up to six free tickets. Non-members may purchase tickets for $10 each.
URL:https://saltysuites.com/event/parr-collective/
LOCATION:Parr Collective\, 3776 Santa Rosa Creek Road\, Cambria\, 93428
END:VEVENT
END:VCALENDAR