BEGIN:VCALENDAR
VERSION:2.0
PRODID:-//The Salty Suites - ECPv6.15.20//NONSGML v1.0//EN
CALSCALE:GREGORIAN
METHOD:PUBLISH
X-ORIGINAL-URL:https://saltysuites.com
X-WR-CALDESC:Events for The Salty Suites
REFRESH-INTERVAL;VALUE=DURATION:PT1H
X-Robots-Tag:noindex
X-PUBLISHED-TTL:PT1H
BEGIN:VTIMEZONE
TZID:America/Los_Angeles
BEGIN:DAYLIGHT
TZOFFSETFROM:-0800
TZOFFSETTO:-0700
TZNAME:PDT
DTSTART:20230312T100000
END:DAYLIGHT
BEGIN:STANDARD
TZOFFSETFROM:-0700
TZOFFSETTO:-0800
TZNAME:PST
DTSTART:20231105T090000
END:STANDARD
BEGIN:DAYLIGHT
TZOFFSETFROM:-0800
TZOFFSETTO:-0700
TZNAME:PDT
DTSTART:20240310T100000
END:DAYLIGHT
BEGIN:STANDARD
TZOFFSETFROM:-0700
TZOFFSETTO:-0800
TZNAME:PST
DTSTART:20241103T090000
END:STANDARD
BEGIN:DAYLIGHT
TZOFFSETFROM:-0800
TZOFFSETTO:-0700
TZNAME:PDT
DTSTART:20250309T100000
END:DAYLIGHT
BEGIN:STANDARD
TZOFFSETFROM:-0700
TZOFFSETTO:-0800
TZNAME:PST
DTSTART:20251102T090000
END:STANDARD
END:VTIMEZONE
BEGIN:VEVENT
DTSTART;TZID=America/Los_Angeles:20241025T160000
DTEND;TZID=America/Los_Angeles:20241025T170000
DTSTAMP:20260424T132247
CREATED:20240920T204338Z
LAST-MODIFIED:20240920T205714Z
UID:702-1729872000-1729875600@saltysuites.com
SUMMARY:Ojai Story Telling Festival
DESCRIPTION:
URL:https://saltysuites.com/event/ojai-story-telling-festival/
LOCATION:Libbey Bowl Ojai\, 210 S Signal St\, Ojai\, California\, 93023\, United States
CATEGORIES:CONCERTS,SHOWS
ATTACH;FMTTYPE=image/jpeg:https://saltysuites.com/wp-content/uploads/2024/05/P3270819-1-scaled.jpg
END:VEVENT
END:VCALENDAR